Felt | Verdi |
AlreadyApplied | True |
Aperture | 4.8 |
ApertureValue | 4.8 |
BitsPerSample | 8 |
BlueHue | 0 |
BlueSaturation | 0 |
Brightness | +50 |
CameraProfile | Adobe Standard |
CFAPattern | [Green,Blue][Red,Green] |
ChromaticAberrationB | 0 |
ChromaticAberrationR | 0 |
CircleOfConfusion | 0.020 mm |
Clarity | +100 |
ColorComponents | 1 |
ColorNoiseReduction | 0 |
ColorTemperature | 4950 |
Contrast (2) | +49 |
Contrast | Normal |
ConvertToGrayscale | True |
CreateDate (1) | 2009:07:08 20:10:45.00+02:00 |
CreateDate | 2009:07:08 20:10:45 |
CreatorTool | Adobe Photoshop Lightroom |
CropAngle | 0.225386 |
CropBottom | 0.999735 |
CropHeight | 2559 |
CropLeft | 0.019115 |
CropRight | 0.936042 |
CropTop | 0.095647 |
CropUnit | pixels |
CropWidth | 3942 |
CustomRendered | Normal |
DateTimeDigitized | 2009:07:08 20:10:45.00+02:00 |
DateTimeOriginal (1) | 2009:07:08 20:10:45.00+02:00 |
DateTimeOriginal | 2009:07:08 20:10:45 |
Defringe | 0 |
DigitalZoomRatio | 1 |
ExifImageHeight | 3942 |
ExifImageWidth | 2559 |
Exposure | +1.32 |
ExposureCompensation | -1/3 |
ExposureMode | Auto |
ExposureProgram | Shutter speed priority AE |
ExposureTime | 1/25 |
FillLight | 30 |
Flash | No Flash |
FlashFired | False |
FlashFunction | False |
FlashMode | Unknown |
FlashRedEyeMode | False |
FlashReturn | No return detection |
FNumber | 4.8 |
FocalLength | 42.0 mm |
FocalLength35efl | 42.0 mm (35 mm equivalent: 63.0 mm) |
FocalLengthIn35mmFormat | 63 mm |
FOV | 31.9 deg |
GainControl | Low gain up |
GrayMixerAqua | -33 |
GrayMixerBlue | -8 |
GrayMixerGreen | -20 |
GrayMixerMagenta | +35 |
GrayMixerOrange | +16 |
GrayMixerPurple | +24 |
GrayMixerRed | +35 |
GrayMixerYellow | +1 |
GreenHue | 0 |
GreenSaturation | 0 |
HasCrop | True |
HasSettings | True |
HighlightRecovery | 0 |
HyperfocalDistance | 18.35 m |
ImageHeight | 3942 |
ImageNumber | 767 |
ImageSize | 2559x3942 |
ImageWidth | 2559 |
ISO | 500 |
Lens | 18.0-105.0 mm f/3.5-5.6 |
LensInfo | 18-105mm f/3.5-5.6 |
LightSource | Fine Weather |
LightValue | 6.8 |
LuminanceSmoothing | 0 |
Make | NIKON CORPORATION |
MaxApertureValue | 4.8 |
Megapixels | 10.1 |
MeteringMode | Multi-segment |
Model | NIKON D90 |
ModifyDate (1) | 2009:08:02 21:26:31+02:00 |
ModifyDate | 2009:08:02 21:26:31 |
ParametricDarks | +20 |
ParametricHighlights | +11 |
ParametricHighlightSplit | 75 |
ParametricLights | +100 |
ParametricMidtoneSplit | 50 |
ParametricShadows | 0 |
ParametricShadowSplit | 25 |
PostCropVignetteAmount | 0 |
ProfileDescription | sRGB IEC61966-2.1 |
RedHue | 0 |
RedSaturation | 0 |
Saturation | Normal |
ScaleFactor35efl | 1.5 |
SceneCaptureType | Standard |
SceneType | Directly photographed |
SensingMethod | One-chip color area |
SerialNumber | 6184722 |
Shadows | 0 |
ShadowTint | 0 |
SharpenDetail | 25 |
SharpenEdgeMasking | 0 |
SharpenRadius | +1.0 |
Sharpness (2) | 25 |
Sharpness | Normal |
ShutterSpeed | 1/25 |
ShutterSpeedValue | 1/25 |
Software | Ver.1.00 |
SplitToningBalance | 0 |
SplitToningHighlightHue | 0 |
SplitToningHighlightSaturation | 0 |
SplitToningShadowHue | 0 |
SplitToningShadowSaturation | 0 |
SubjectDistanceRange | Unknown |
Tint | -5 |
ToneCurve | 0, 0, 32, 22, 64, 56, 128, 128, 192, 196, 255, 255 |
ToneCurveName | Medium Contrast |
Version | 5.3 |
VignetteAmount | 0 |
WhiteBalance (2) | As Shot |
WhiteBalance | Manual |