Felt | Verdi |
AlreadyApplied | True |
Aperture | 2.8 |
ApertureValue | 2.8 |
BitsPerSample | 8 |
BlueHue | +11 |
BlueSaturation | -21 |
Brightness | +29 |
CameraProfile | Embedded |
ChromaticAberrationB | 0 |
ChromaticAberrationR | 0 |
CircleOfConfusion | 0.019 mm |
Clarity | +69 |
ColorComponents | 3 |
ColorMode | RGB |
ColorNoiseReduction | 25 |
ColorSpace | sRGB |
Contrast | +32 |
ConvertToGrayscale | True |
CopyrightFlag | False |
CreateDate (1) | 2009:10:29 02:08:53+01:00 |
CreateDate | 2009:05:21 17:43:32 |
CreatorTool | Adobe Photoshop Elements 6.0 Windows |
CropAngle | 0 |
CropBottom | 1 |
CropHeight | 2592 |
CropLeft | 0 |
CropRight | 0.948052 |
CropTop | 0 |
CropUnit | pixels |
CropWidth | 3686 |
CustomRendered | Normal |
DateTimeDigitized | 2009:05:21 17:43:32+02:00 |
DateTimeOriginal (1) | 2009:05:21 17:43:32+02:00 |
DateTimeOriginal | 2009:05:21 17:43:32 |
Defringe | 0 |
ExifImageHeight | 625 |
ExifImageWidth | 850 |
Exposure | -0.48 |
ExposureCompensation | 0 |
ExposureMode | Auto |
ExposureProgram | Program AE |
ExposureTime | 1/60 |
FillLight | 0 |
Flash | Off, Did not fire |
FlashFired | False |
FlashFunction | False |
FlashMode | Off |
FlashRedEyeMode | False |
FlashReturn | No return detection |
FNumber | 2.8 |
FocalLength | 100.0 mm |
FocalLength35efl | 100.0 mm (35 mm equivalent: 161.9 mm) |
Format | image/jpeg |
FOV | 12.7 deg |
GPSVersionID | 2.2.0.0 |
GrayMixerAqua | +2 |
GrayMixerBlue | +19 |
GrayMixerGreen | 0 |
GrayMixerMagenta | +30 |
GrayMixerOrange | +8 |
GrayMixerPurple | +25 |
GrayMixerRed | +34 |
GrayMixerYellow | -12 |
GreenHue | +16 |
GreenSaturation | +51 |
HasCrop | True |
HasSettings | True |
HighlightRecovery | 45 |
HyperfocalDistance | 192.42 m |
ICCProfileName | sRGB IEC61966-2.1 |
ImageHeight (1) | 2592 |
ImageHeight | 625 |
ImageSize | 850x625 |
ImageWidth (1) | 3686 |
ImageWidth | 850 |
IncrementalTemperature | 0 |
IncrementalTint | 0 |
ISO | 100 |
LightValue | 8.9 |
LuminanceSmoothing | 0 |
Make | Canon |
Megapixels | 0.531 |
MeteringMode | Center-weighted average |
Model | Canon EOS 40D |
ModifyDate (1) | 2009:10:29 02:10:43+01:00 |
ModifyDate | 2009:10:29 02:10:43 |
Orientation | Horizontal (normal) |
ParametricDarks | 0 |
ParametricHighlights | -95 |
ParametricHighlightSplit | 75 |
ParametricLights | +14 |
ParametricMidtoneSplit | 50 |
ParametricShadows | 0 |
ParametricShadowSplit | 25 |
PostCropVignetteAmount | 0 |
ProfileDescription | sRGB IEC61966-2.1 |
RedHue | +23 |
RedSaturation | +10 |
ScaleFactor35efl | 1.6 |
SceneCaptureType | Standard |
Shadows | 10 |
ShadowTint | +4 |
SharpenDetail | 62 |
SharpenEdgeMasking | 0 |
SharpenRadius | +1.0 |
Sharpness | 25 |
ShutterSpeed | 1/60 |
ShutterSpeedValue | 1/60 |
Software | Adobe Photoshop Elements 6.0 Windows |
SplitToningBalance | 0 |
SplitToningHighlightHue | 215 |
SplitToningHighlightSaturation | 32 |
SplitToningShadowHue | 240 |
SplitToningShadowSaturation | 29 |
ToneCurve | 0, 0, 255, 255 |
ToneCurveName | Linear |
URL_List | |
Version | 5.5 |
VignetteAmount | -100 |
VignetteMidpoint | 40 |
WhiteBalance (2) | As Shot |
WhiteBalance | Manual |