Felt | Verdi |
AlreadyApplied | True |
Aperture | 6.3 |
ApertureValue | 6.3 |
Artist | Christer Hansen Eriksen |
BitsPerSample | 8 |
BlueHue | 0 |
BlueSaturation | 0 |
Brightness | +20 |
By-line | Christer Hansen Eriksen |
CameraProfile | ACR 4.4 |
ChromaticAberrationB | 0 |
ChromaticAberrationR | 0 |
CircleOfConfusion | 0.019 mm |
Clarity | 0 |
ColorComponents | 3 |
ColorNoiseReduction | 25 |
ColorTemperature | 5125 |
Contrast | -10 |
ConvertToGrayscale | False |
Copyright | Chreriksen |
CopyrightFlag | True |
CopyrightNotice | Chreriksen |
CreateDate (1) | 2009:10:02 18:34:19.03+02:00 |
CreateDate | 2009:10:02 18:34:19 |
Creator | Christer Hansen Eriksen |
CreatorTool | Adobe Photoshop Lightroom |
CreatorWorkEmail | chreriksen@me.com |
CreatorWorkURL | flickr.com/chreriksen |
CropAngle | 0 |
CropBottom | 0.977401 |
CropHeight | 2594 |
CropLeft | 0 |
CropRight | 1 |
CropTop | 0.066721 |
CropUnit | pixels |
CropWidth | 4272 |
CustomRendered | Normal |
DateTimeDigitized | 2009:10:02 18:34:19.03+02:00 |
DateTimeOriginal (1) | 2009:10:02 18:34:19.03+02:00 |
DateTimeOriginal | 2009:10:02 18:34:19 |
Defringe | 1 |
ExifImageHeight | 2594 |
ExifImageWidth | 4272 |
Exposure | +1.75 |
ExposureCompensation | 0 |
ExposureMode | Auto |
ExposureProgram | Aperture-priority AE |
ExposureTime | 1/400 |
FillLight | 20 |
Firmware | 1.0.9 |
Flash | Off, Did not fire |
FlashCompensation | 0 |
FlashFired | False |
FlashFunction | False |
FlashMode | Off |
FlashRedEyeMode | False |
FlashReturn | No return detection |
FNumber | 6.3 |
FocalLength | 55.0 mm |
FocalLength35efl | 55.0 mm (35 mm equivalent: 88.8 mm) |
FOV | 22.9 deg |
GradientBasedCorrActive | true |
GradientBasedCorrAmount | 1.000000 |
GradientBasedCorrBrightness | 0.000000 |
GradientBasedCorrClarity | 0.000000 |
GradientBasedCorrContrast | 0.000000 |
GradientBasedCorrExposure | 0.000000 |
GradientBasedCorrHue (1) | 56.000000 |
GradientBasedCorrHue | 54.000000 |
GradientBasedCorrMaskFullX (1) | 0.514863 |
GradientBasedCorrMaskFullX | 0.508918 |
GradientBasedCorrMaskFullY (1) | 0.000000 |
GradientBasedCorrMaskFullY | 1.030190 |
GradientBasedCorrMaskValue | 1.000000 |
GradientBasedCorrMaskWhat | Mask/Gradient |
GradientBasedCorrMaskZeroX (1) | 0.514863 |
GradientBasedCorrMaskZeroX | 0.508918 |
GradientBasedCorrMaskZeroY (1) | 1.007100 |
GradientBasedCorrMaskZeroY | -0.079929 |
GradientBasedCorrSaturation (2) | 0.580000 |
GradientBasedCorrSaturation (3) | 0.000000 |
GradientBasedCorrSaturation | 0.270000 |
GradientBasedCorrSharpness | 0.000000 |
GradientBasedCorrWhat | Correction |
GreenHue | 0 |
GreenSaturation | 0 |
HasCrop | True |
HasSettings | True |
HighlightRecovery | 0 |
HueAdjustmentAqua | +11 |
HueAdjustmentBlue | -22 |
HueAdjustmentGreen | 0 |
HueAdjustmentMagenta | 0 |
HueAdjustmentOrange | 0 |
HueAdjustmentPurple | 0 |
HueAdjustmentRed | 0 |
HueAdjustmentYellow | 0 |
HyperfocalDistance | 25.82 m |
ImageHeight | 2594 |
ImageNumber | 0 |
ImageSize | 4272x2594 |
ImageWidth | 4272 |
ISO | 200 |
Keywords | Barcelona, Bright, Casa Batll—, Dark, Dragon, Espa–a, Intense, Roof, Spain, Vacation |
Lens | EF-S18-55mm f/3.5-5.6 IS |
LensInfo | 18-55mm f/? |
LightValue | 13.0 |
LuminanceAdjustmentAqua | 0 |
LuminanceAdjustmentBlue | +79 |
LuminanceAdjustmentGreen | 0 |
LuminanceAdjustmentMagenta | 0 |
LuminanceAdjustmentOrange | 0 |
LuminanceAdjustmentPurple | 0 |
LuminanceAdjustmentRed | 0 |
LuminanceAdjustmentYellow | 0 |
LuminanceSmoothing | 0 |
Make | Canon |
Marked | True |
MaxApertureValue | 5.7 |
Megapixels | 11.1 |
MeteringMode | Multi-segment |
Model | Canon EOS 450D |
ModifyDate (1) | 2009:12:07 14:46:24+01:00 |
ModifyDate | 2009:12:07 14:46:24 |
ObjectName | Batll— |
OwnerName | Christer Hansen Eriksen |
ParametricDarks | -5 |
ParametricHighlights | +75 |
ParametricHighlightSplit | 75 |
ParametricLights | +75 |
ParametricMidtoneSplit | 50 |
ParametricShadows | -90 |
ParametricShadowSplit | 25 |
PostCropVignetteAmount | 0 |
ProfileDescription | sRGB IEC61966-2.1 |
RedHue | 0 |
RedSaturation | 0 |
Rights | Chreriksen |
Saturation | -40 |
SaturationAdjustmentAqua | 0 |
SaturationAdjustmentBlue | +41 |
SaturationAdjustmentGreen | +53 |
SaturationAdjustmentMagenta | +41 |
SaturationAdjustmentOrange | 0 |
SaturationAdjustmentPurple | 0 |
SaturationAdjustmentRed | 0 |
SaturationAdjustmentYellow | 0 |
ScaleFactor35efl | 1.6 |
SceneCaptureType | Standard |
SerialNumber | 1380330704 |
Shadows | 10 |
ShadowTint | 0 |
SharpenDetail | 25 |
SharpenEdgeMasking | 0 |
SharpenRadius | +1.0 |
Sharpness | 25 |
ShutterSpeed | 1/400 |
ShutterSpeedValue | 1/400 |
SplitToningBalance | 0 |
SplitToningHighlightHue | 55 |
SplitToningHighlightSaturation | 33 |
SplitToningShadowHue | 21 |
SplitToningShadowSaturation | 0 |
Subject | Barcelona, Bright, Casa Batlló, Dark, Dragon, España, Intense, Roof, Spain, Vacation |
Tint | +22 |
Title | Batlló |
ToneCurve | 0, 0, 32, 22, 64, 56, 128, 128, 192, 196, 255, 255 |
ToneCurveName | Medium Contrast |
Version | 5.5 |
Vibrance | +15 |
VignetteAmount | -100 |
VignetteMidpoint | 0 |
WhiteBalance (2) | Custom |
WhiteBalance | Auto |