Felt | Verdi |
AlreadyApplied | True |
Aperture | 2.8 |
ApertureValue | 2.8 |
Artist | Tom Eikrem |
BitsPerSample | 8 |
BlueHue | 0 |
BlueSaturation | +63 |
Brightness | +14 |
By-line | Tom Eikrem |
CameraProfile | ACR 4.2 |
ChromaticAberrationB | 0 |
ChromaticAberrationR | 0 |
CircleOfConfusion | 0.019 mm |
Clarity | -14 |
ColorComponents | 3 |
ColorMode | RGB |
ColorNoiseReduction | 63 |
ColorSpace | sRGB |
ColorTemperature | 6800 |
Contrast | +52 |
ConvertToGrayscale | True |
Copyright | Tom Eikrem |
CopyrightFlag | False |
CopyrightNotice | Tom Eikrem |
CreateDate (1) | 2010:01:30 05:03:44+01:00 |
CreateDate | 2010:01:30 01:52:30 |
Creator | Tom Eikrem |
CreatorTool | Microsoft Windows Photo Viewer 6.1.7600.16385 |
CreatorWorkTelephone | 004748223077 |
CropAngle | -19.2444 |
CropBottom | 0.647197 |
CropHeight | 1763 |
CropLeft | 0 |
CropRight | 0.709229 |
CropTop | 0.298004 |
CropUnit | pixels |
CropWidth | 2305 |
CustomRendered | Normal |
DateTimeDigitized | 2010:01:30 01:52:30.68+01:00 |
DateTimeOriginal (1) | 2010:01:30 01:52:30.68+01:00 |
DateTimeOriginal | 2010:01:30 01:52:30 |
Defringe | 0 |
DOF | 0.001 m (0.369 - 0.371 m) |
ExifImageHeight | 800 |
ExifImageWidth | 800 |
Exposure | +0.70 |
ExposureCompensation | 0 |
ExposureMode | Auto |
ExposureProgram | Aperture-priority AE |
ExposureTime | 1/4 |
FillLight | 0 |
Firmware | 1.1.1 |
Flash | Off, Did not fire |
FlashCompensation | 0 |
FlashFired | False |
FlashFunction | False |
FlashMode | Off |
FlashRedEyeMode | False |
FlashReturn | No return detection |
FNumber | 2.8 |
FocalLength | 100.0 mm |
FocalLength35efl | 100.0 mm (35 mm equivalent: 161.9 mm) |
Format | image/jpeg |
FOV | 12.7 deg |
GrayMixerAqua | -12 |
GrayMixerBlue | -4 |
GrayMixerGreen | -21 |
GrayMixerMagenta | +21 |
GrayMixerOrange | +12 |
GrayMixerPurple | +17 |
GrayMixerRed | -12 |
GrayMixerYellow | 0 |
GreenHue | 0 |
GreenSaturation | 0 |
HasCrop | True |
HasSettings | True |
HighlightRecovery | 0 |
HyperfocalDistance | 192.42 m |
ICCProfileName | sRGB IEC61966-2.1 |
ImageHeight (1) | 1763 |
ImageHeight | 800 |
ImageNumber | 0 |
ImageSize | 800x800 |
ImageWidth (1) | 2305 |
ImageWidth | 800 |
ISO | 200 |
Lens | 100mm |
LensID (1) | 161 |
LensID | Unknown (161) 100mm |
LensInfo | 100mm f/? |
LightValue | 4.0 |
LuminanceSmoothing | 36 |
Make | Canon |
MaxApertureValue | 2.8 |
Megapixels | 0.640 |
MeteringMode | Spot |
Model | Canon EOS 40D |
ModifyDate (1) | 2010:01:30 05:03:44+01:00 |
ModifyDate | 2010:01:30 05:25:03 |
Orientation | Horizontal (normal) |
OriginatingProgram | Microsoft Windows Photo Viewer 6.1.7600.16385 |
ParametricDarks | -31 |
ParametricHighlights | -45 |
ParametricHighlightSplit | 75 |
ParametricLights | +26 |
ParametricMidtoneSplit | 50 |
ParametricShadows | -26 |
ParametricShadowSplit | 25 |
PostCropVignetteAmount | 0 |
ProfileDescription | sRGB IEC61966-2.1 |
RedHue | 0 |
RedSaturation | -34 |
Rights | Tom Eikrem |
ScaleFactor35efl | 1.6 |
SceneCaptureType | Standard |
SerialNumber | 630332843 |
Shadows | 8 |
ShadowTint | 0 |
SharpenDetail | 33 |
SharpenEdgeMasking | 0 |
SharpenRadius | +1.0 |
Sharpness | 52 |
ShutterSpeed | 1/4 |
ShutterSpeedValue | 1/4 |
Software | Microsoft Windows Photo Viewer 6.1.7600.16385 |
SplitToningBalance | -67 |
SplitToningHighlightHue | 47 |
SplitToningHighlightSaturation | 39 |
SplitToningShadowHue | 219 |
SplitToningShadowSaturation | 43 |
SubjectDistance | 0.37 m |
Tint | +63 |
ToneCurve | 0, 0, 255, 255 |
ToneCurveName | Linear |
URL_List | |
Version | 5.6 |
VignetteAmount | -45 |
VignetteMidpoint | 36 |
WhiteBalance (2) | Custom |
WhiteBalance | Manual |