Felt | Verdi |
AlreadyApplied | True |
Aperture | 7.1 |
ApertureValue | 7.1 |
BitsPerSample | 8 |
BlueHue | 0 |
BlueSaturation | 0 |
Brightness | +53 |
CameraProfile | Embedded |
ChromaticAberrationB | 0 |
ChromaticAberrationR | 0 |
CircleOfConfusion | 0.005 mm |
Clarity | +19 |
ColorComponents | 3 |
ColorNoiseReduction | 0 |
Contrast | +53 |
ConvertToGrayscale | False |
CreateDate (1) | 2008:03:21 22:06:47+01:00 |
CreateDate | 2008:03:21 22:06:47 |
CreatorTool | Adobe Photoshop Lightroom |
CustomRendered | Normal |
DateTimeDigitized | 2008:03:21 22:06:47+01:00 |
DateTimeOriginal (1) | 2008:03:21 22:06:47+01:00 |
DateTimeOriginal | 2008:03:21 22:06:47 |
Defringe | 0 |
DigitalZoomRatio | 1 |
ExifImageHeight | 488 |
ExifImageWidth | 650 |
Exposure | 0.00 |
ExposureCompensation | 0 |
ExposureMode | Auto |
ExposureTime | 1/400 |
FillLight | 0 |
Firmware | 1.00 |
Flash | Auto, Did not fire |
FlashCompensation | 0 |
FlashFired | False |
FlashFunction | False |
FlashMode | Auto |
FlashRedEyeMode | False |
FlashReturn | No return detection |
FNumber | 7.1 |
FocalLength | 5.4 mm |
FocalLength35efl | 5.4 mm (35 mm equivalent: 35.7 mm) |
FOV | 53.5 deg |
GreenHue | 0 |
GreenSaturation | 0 |
HasCrop | False |
HasSettings | True |
HighlightRecovery | 0 |
HueAdjustmentAqua | 0 |
HueAdjustmentBlue | 0 |
HueAdjustmentGreen | 0 |
HueAdjustmentMagenta | 0 |
HueAdjustmentOrange | 0 |
HueAdjustmentPurple | 0 |
HueAdjustmentRed | 0 |
HueAdjustmentYellow | 0 |
HyperfocalDistance | 0.91 m |
ImageHeight | 488 |
ImageSize | 650x488 |
ImageWidth | 650 |
IncrementalTemperature | 0 |
IncrementalTint | 0 |
Lens | 5.4-10.8 mm |
LensInfo | 5.40625-10.8125mm f/? |
LuminanceAdjustmentAqua | 0 |
LuminanceAdjustmentBlue | -33 |
LuminanceAdjustmentGreen | -23 |
LuminanceAdjustmentMagenta | 0 |
LuminanceAdjustmentOrange | 0 |
LuminanceAdjustmentPurple | 0 |
LuminanceAdjustmentRed | 0 |
LuminanceAdjustmentYellow | +10 |
LuminanceSmoothing | 0 |
Make | Canon |
MaxApertureValue | 2.8 |
Megapixels | 0.317 |
MeteringMode | Multi-segment |
Model | Canon DIGITAL IXUS v2 |
ModifyDate (1) | 2010:06:06 21:37:21+02:00 |
ModifyDate | 2010:06:06 21:37:21 |
ParametricDarks | +1 |
ParametricHighlights | -4 |
ParametricHighlightSplit | 75 |
ParametricLights | -8 |
ParametricMidtoneSplit | 50 |
ParametricShadows | -13 |
ParametricShadowSplit | 25 |
PostCropVignetteAmount | 0 |
ProfileDescription | sRGB IEC61966-2.1 |
RedHue | 0 |
RedSaturation | 0 |
Saturation | 0 |
SaturationAdjustmentAqua | 0 |
SaturationAdjustmentBlue | +27 |
SaturationAdjustmentGreen | +27 |
SaturationAdjustmentMagenta | 0 |
SaturationAdjustmentOrange | -19 |
SaturationAdjustmentPurple | 0 |
SaturationAdjustmentRed | 0 |
SaturationAdjustmentYellow | -8 |
ScaleFactor35efl | 6.6 |
SceneCaptureType | Standard |
SensingMethod | One-chip color area |
Shadows | 6 |
ShadowTint | 0 |
SharpenDetail | 25 |
SharpenEdgeMasking | 0 |
SharpenRadius | +1.0 |
Sharpness | 0 |
ShutterSpeed | 1/400 |
ShutterSpeedValue | 1/400 |
SplitToningBalance | 0 |
SplitToningHighlightHue | 19 |
SplitToningHighlightSaturation | 16 |
SplitToningShadowHue | 27 |
SplitToningShadowSaturation | 19 |
ToneCurve | 0, 0, 32, 22, 64, 56, 128, 128, 192, 196, 255, 255 |
ToneCurveName | Medium Contrast |
Version | 5.5 |
Vibrance | +8 |
VignetteAmount | -100 |
VignetteMidpoint | 20 |
WhiteBalance (2) | As Shot |
WhiteBalance | Auto |