Felt | Verdi |
AlreadyApplied | True |
Aperture | 7.1 |
ApertureValue | 7.1 |
ApproximateFocusDistance | 4294967295 |
Artist | Geir Stian Altmann Larsen |
BitsPerSample | 8 |
BlueHue | 0 |
BlueSaturation | 0 |
Brightness | +50 |
By-line | Geir Stian Altmann Larsen |
CameraProfile | Adobe Standard |
CFAPattern | [Green,Blue][Red,Green] |
ChromaticAberrationB | 0 |
ChromaticAberrationR | 0 |
CircleOfConfusion | 0.020 mm |
Clarity | -33 |
ColorComponents | 3 |
ColorNoiseReduction | 25 |
ColorNoiseReductionDetail | 50 |
ColorTemperature | 7402 |
Contrast (1) | +62 |
Contrast | Normal |
ConvertToGrayscale | False |
Copyright | Geir Stian Altmann Larsen |
CopyrightFlag | True |
CopyrightNotice | Geir Stian Altmann Larsen |
CreateDate (1) | 2011:09:07 19:55:10.00 |
CreateDate | 2011:09:07 19:55:10 |
Creator | Geir Stian Altmann Larsen |
CreatorCity | Alta |
CreatorTool | Adobe Photoshop Lightroom 3.4.1 |
CreatorWorkEmail | gsal1978@gmail.com |
CropAngle | 5.66392 |
CropBottom | 0.812173 |
CropConstrainToWarp | 0 |
CropHeight | 399 |
CropLeft | 0.127587 |
CropRight | 0.668898 |
CropTop | 0.14616 |
CropUnit | pixels |
CropWidth | 600 |
CustomRendered | Normal |
DateCreated (1) | 2011:09:07 |
DateCreated | 2011:09:07 19:55:10.00 |
DateTimeOriginal | 2011:09:07 19:55:10 |
Defringe | 0 |
DigitalZoomRatio | 1 |
DOF | inf (6.33 m - inf) |
Exposure | +1.33 |
ExposureCompensation | -2/3 |
ExposureMode | Auto |
ExposureProgram | Aperture-priority AE |
ExposureTime | 1.3 |
FillLight | 23 |
Flash | No Flash |
FNumber | 7.1 |
FocalLength | 30.0 mm |
FocalLength35efl | 30.0 mm (35 mm equivalent: 45.0 mm) |
FocalLengthIn35mmFormat | 45 mm |
FOV | 43.6 deg |
GainControl | None |
GradientBasedCorrActive | true |
GradientBasedCorrAmount | 1.000000 |
GradientBasedCorrBrightness | -0.146000 |
GradientBasedCorrClarity | 0.000000 |
GradientBasedCorrContrast | 0.000000 |
GradientBasedCorrExposure | -0.098000 |
GradientBasedCorrHue | 240.000000 |
GradientBasedCorrMaskFullX | 0.568374 |
GradientBasedCorrMaskFullY | 0.230426 |
GradientBasedCorrMaskValue | 1.000000 |
GradientBasedCorrMaskWhat | Mask/Gradient |
GradientBasedCorrMaskZeroX | 0.407204 |
GradientBasedCorrMaskZeroY | 0.568994 |
GradientBasedCorrSaturation | 0.000000 |
GradientBasedCorrSharpness | 0.000000 |
GradientBasedCorrWhat | Correction |
GrainAmount | 0 |
GreenHue | 0 |
GreenSaturation | 0 |
HasCrop | True |
HasSettings | True |
HighlightRecovery | 45 |
HueAdjustmentAqua | 0 |
HueAdjustmentBlue | 0 |
HueAdjustmentGreen | 0 |
HueAdjustmentMagenta | 0 |
HueAdjustmentOrange | 0 |
HueAdjustmentPurple | 0 |
HueAdjustmentRed | 0 |
HueAdjustmentYellow | 0 |
HyperfocalDistance | 6.33 m |
ImageHeight | 399 |
ImageNumber | 10415 |
ImageSize | 600x399 |
ImageWidth | 600 |
ISO | 100 |
Keywords | geir stian altmann larsen alta norway |
Lens | 18.0-105.0 mm f/3.5-5.6 |
LensID (1) | 158 |
LensID | AF-S DX VR Zoom-Nikkor 18-105mm f/3.5-5.6G ED |
LensInfo | 18-105mm f/3.5-5.6 |
LensManualDistortionAmount | 0 |
LensModel | 18.0-105.0 mm f/3.5-5.6 |
LensProfileEnable | 0 |
LensProfileSetup | LensDefaults |
LightSource | Unknown |
LightValue | 5.3 |
LuminanceAdjustmentAqua | 0 |
LuminanceAdjustmentBlue | 0 |
LuminanceAdjustmentGreen | 0 |
LuminanceAdjustmentMagenta | 0 |
LuminanceAdjustmentOrange | 0 |
LuminanceAdjustmentPurple | 0 |
LuminanceAdjustmentRed | 0 |
LuminanceAdjustmentYellow | 0 |
LuminanceSmoothing | 0 |
Make | NIKON CORPORATION |
Marked | True |
MaxApertureValue | 4.1 |
Megapixels | 0.239 |
MeteringMode | Multi-segment |
Model | NIKON D90 |
ModifyDate (1) | 2011:09:11 14:05:16+02:00 |
ModifyDate | 2011:09:11 14:05:16 |
ParametricDarks | -14 |
ParametricHighlights | +60 |
ParametricHighlightSplit | 75 |
ParametricLights | 0 |
ParametricMidtoneSplit | 50 |
ParametricShadows | -39 |
ParametricShadowSplit | 25 |
PerspectiveHorizontal | 0 |
PerspectiveRotate | 0.0 |
PerspectiveScale | 100 |
PerspectiveVertical | 0 |
PostCropVignetteAmount | 0 |
ProcessVersion | 5.7 |
ProfileDescription | Adobe RGB (1998) |
Rating | 3 |
RedHue | 0 |
RedSaturation | 0 |
Rights | Geir Stian Altmann Larsen |
Saturation (1) | -54 |
Saturation | Normal |
SaturationAdjustmentAqua | 0 |
SaturationAdjustmentBlue | 0 |
SaturationAdjustmentGreen | 0 |
SaturationAdjustmentMagenta | 0 |
SaturationAdjustmentOrange | 0 |
SaturationAdjustmentPurple | 0 |
SaturationAdjustmentRed | 0 |
SaturationAdjustmentYellow | 0 |
ScaleFactor35efl | 1.5 |
SceneCaptureType | Standard |
SceneType | Directly photographed |
SensingMethod | One-chip color area |
SerialNumber | 6653606 |
Shadows | 24 |
ShadowTint | 0 |
SharpenDetail | 25 |
SharpenEdgeMasking | 0 |
SharpenRadius | +1.0 |
Sharpness (1) | 25 |
Sharpness | Normal |
ShutterSpeed | 1.3 |
ShutterSpeedValue | 1.3 |
Software | Adobe Photoshop Lightroom 3.4.1 |
SplitToningBalance | 0 |
SplitToningHighlightHue | 0 |
SplitToningHighlightSaturation | 0 |
SplitToningShadowHue | 0 |
SplitToningShadowSaturation | 0 |
Subject | geir stian altmann larsen alta norway |
SubjectDistance | 4294967295 m |
SubjectDistanceRange | Unknown |
Tint | +16 |
ToneCurve | 0, 0, 32, 22, 64, 56, 128, 128, 192, 196, 255, 255 |
ToneCurveName | Medium Contrast |
URL | gsal1978@gmail.com |
Version | 6.4.1 |
Vibrance | -54 |
VignetteAmount | 0 |
WebStatement | gsal1978@gmail.com |
WhiteBalance (1) | Custom |
WhiteBalance | Auto |