Felt | Verdi |
AlreadyApplied | True |
BitsPerSample | 8 |
Blacks2012 | 0 |
Brightness | +50 |
CircleOfConfusion | 0.007 mm |
Clarity | 0 |
Clarity2012 | 0 |
ColorComponents | 1 |
ColorMode | Grayscale |
ColorSpace | Uncalibrated |
Contrast | +61 |
Contrast2012 | 0 |
CreateDate | 2013:01:03 17:02:42 |
CreatorTool | Adobe Photoshop CS5 Macintosh |
CropAngle | 0 |
CropBottom | 0.825826 |
CropConstrainToWarp | 1 |
CropHeight | 3 |
CropLeft | 0.14985 |
CropRight | 0.954609 |
CropTop | 0.01952 |
CropUnit | Unknown (3) |
CropWidth | 2 |
DateCreated (1) | 2013:01:03 |
DateCreated | 2013:01:03 17:02:42 |
DateTimeOriginal | 2013:01:03 17:02:42 |
DigitalZoomRatio | 0 |
ExifImageHeight | 1280 |
ExifImageWidth | 853 |
Exposure | 0.00 |
Exposure2012 | 0.00 |
ExposureCompensation | -0.332 |
ExposureMode | Manual |
ExposureProgram | Aperture-priority AE |
ExposureTime | 1/125 |
FillLight | 10 |
Flash | No Flash |
Format | image/jpeg |
GrainAmount | 0 |
HasCrop | True |
HasSettings | True |
HighlightRecovery | 56 |
Highlights2012 | 0 |
ICCProfileName | Gray Gamma 2.2 |
ImageHeight | 1280 |
ImageSize | 853x1280 |
ImageWidth | 853 |
ISO | 1000 |
LensManualDistortionAmount | 0 |
LensProfileEnable | 0 |
LensProfileSetup | LensDefaults |
LightSource | Unknown |
LuminanceNoiseReductionContrast | 0 |
LuminanceNoiseReductionDetail | 50 |
LuminanceSmoothing | 18 |
Make | Leica Camera AG |
MakerNoteSafety | Safe |
MaxApertureValue | 1.0 |
Megapixels | 1.1 |
MeteringMode | Center-weighted average |
Model | M Monochrom |
ModifyDate (1) | 2013:01:04 19:26:06+01:00 |
ModifyDate | 2013:01:04 19:26:06 |
Orientation | Horizontal (normal) |
ParametricDarks | 0 |
ParametricHighlights | 0 |
ParametricHighlightSplit | 75 |
ParametricLights | 0 |
ParametricMidtoneSplit | 50 |
ParametricShadows | 0 |
ParametricShadowSplit | 25 |
PerspectiveHorizontal | 0 |
PerspectiveRotate | 0.0 |
PerspectiveScale | 100 |
PerspectiveVertical | 0 |
PostCropVignetteAmount | 0 |
ProcessVersion | 5.7 |
ProfileDescription | Gray Gamma 2.2 |
Rating | 0 |
RawFileName | L1001082.DNG |
ScaleFactor35efl | 4.1 |
SceneCaptureType | Standard |
SceneType | Directly photographed |
SerialNumber | 4344474 |
Shadows | 8 |
Shadows2012 | 0 |
SharpenDetail | 13 |
SharpenEdgeMasking | 0 |
SharpenRadius | +1.1 |
Sharpness | 77 |
ShutterSpeed | 1/125 |
ShutterSpeedValue | 1/125 |
Software | Adobe Photoshop CS5 Macintosh |
SplitToningBalance | 0 |
SplitToningHighlightHue | 0 |
SplitToningHighlightSaturation | 0 |
SplitToningShadowHue | 0 |
SplitToningShadowSaturation | 0 |
ToneCurve | 0, 0, 32, 22, 64, 56, 128, 128, 192, 196, 255, 255 |
ToneCurveBlue | 0, 0, 255, 255 |
ToneCurveGreen | 0, 0, 255, 255 |
ToneCurveName | Medium Contrast |
ToneCurveName2012 | Linear |
ToneCurvePV2012 | 0, 0, 255, 255 |
ToneCurvePV2012Blue | 0, 0, 255, 255 |
ToneCurvePV2012Green | 0, 0, 255, 255 |
ToneCurvePV2012Red | 0, 0, 255, 255 |
ToneCurveRed | 0, 0, 255, 255 |
URL_List | |
Version | 6.7 |
VignetteAmount | 0 |
Whites2012 | 0 |